BEGIN:VCALENDAR
VERSION:2.0
PRODID:-//Bodysex - ECPv6.15.20//NONSGML v1.0//EN
CALSCALE:GREGORIAN
METHOD:PUBLISH
X-WR-CALNAME:Bodysex
X-ORIGINAL-URL:https://bodysex.com
X-WR-CALDESC:Events for Bodysex
REFRESH-INTERVAL;VALUE=DURATION:PT1H
X-Robots-Tag:noindex
X-PUBLISHED-TTL:PT1H
BEGIN:VTIMEZONE
TZID:Europe/Paris
BEGIN:DAYLIGHT
TZOFFSETFROM:+0100
TZOFFSETTO:+0200
TZNAME:CEST
DTSTART:20220327T010000
END:DAYLIGHT
BEGIN:STANDARD
TZOFFSETFROM:+0200
TZOFFSETTO:+0100
TZNAME:CET
DTSTART:20221030T010000
END:STANDARD
BEGIN:DAYLIGHT
TZOFFSETFROM:+0100
TZOFFSETTO:+0200
TZNAME:CEST
DTSTART:20230326T010000
END:DAYLIGHT
BEGIN:STANDARD
TZOFFSETFROM:+0200
TZOFFSETTO:+0100
TZNAME:CET
DTSTART:20231029T010000
END:STANDARD
BEGIN:DAYLIGHT
TZOFFSETFROM:+0100
TZOFFSETTO:+0200
TZNAME:CEST
DTSTART:20240331T010000
END:DAYLIGHT
BEGIN:STANDARD
TZOFFSETFROM:+0200
TZOFFSETTO:+0100
TZNAME:CET
DTSTART:20241027T010000
END:STANDARD
END:VTIMEZONE
BEGIN:VEVENT
DTSTART;TZID=Europe/Paris:20230114T103000
DTEND;TZID=Europe/Paris:20230115T150000
DTSTAMP:20260423T060259
CREATED:20221012T195434Z
LAST-MODIFIED:20221116T060425Z
UID:5505-1673692200-1673794800@bodysex.com
SUMMARY:Bodysex Circle with Bernadette
DESCRIPTION:Bodysex circle \nDate: January 14\, 2023 – January 15\, 2023 \nTime: 10.30 am – 3 pm \nVenue: the Netherlands \nOrganizer: Bernadette \nPrice: E 285\,- \nGroup size: max 10 participants \nCategory: Bodysex group workshop\, in person \nWebsite: BernadettevanderDoorn.nl \nE-mail: info@bernadettevanderdoorn.nl \nEmail Bernadette for more information and to register
URL:https://bodysex.com/event/bodysex-circle-with-bernadette/
LOCATION:Studio in the Netherlands\, Netherlands
CATEGORIES:Bodysex Workshop - In-person
ATTACH;FMTTYPE=image/jpeg:https://bodysex.com/wp-content/uploads/2022/10/BernadetteWorkshop.jpeg
ORGANIZER;CN="Bernadette de Graaf":MAILTO:Bernadette@bewustnaarbeter.com
END:VEVENT
END:VCALENDAR