BEGIN:VCALENDAR
VERSION:2.0
PRODID:-//Bodysex - ECPv6.15.20//NONSGML v1.0//EN
CALSCALE:GREGORIAN
METHOD:PUBLISH
X-WR-CALNAME:Bodysex
X-ORIGINAL-URL:https://bodysex.com
X-WR-CALDESC:Events for Bodysex
REFRESH-INTERVAL;VALUE=DURATION:PT1H
X-Robots-Tag:noindex
X-PUBLISHED-TTL:PT1H
BEGIN:VTIMEZONE
TZID:Europe/Budapest
BEGIN:DAYLIGHT
TZOFFSETFROM:+0100
TZOFFSETTO:+0200
TZNAME:CEST
DTSTART:20230326T010000
END:DAYLIGHT
BEGIN:STANDARD
TZOFFSETFROM:+0200
TZOFFSETTO:+0100
TZNAME:CET
DTSTART:20231029T010000
END:STANDARD
BEGIN:DAYLIGHT
TZOFFSETFROM:+0100
TZOFFSETTO:+0200
TZNAME:CEST
DTSTART:20240331T010000
END:DAYLIGHT
BEGIN:STANDARD
TZOFFSETFROM:+0200
TZOFFSETTO:+0100
TZNAME:CET
DTSTART:20241027T010000
END:STANDARD
BEGIN:DAYLIGHT
TZOFFSETFROM:+0100
TZOFFSETTO:+0200
TZNAME:CEST
DTSTART:20250330T010000
END:DAYLIGHT
BEGIN:STANDARD
TZOFFSETFROM:+0200
TZOFFSETTO:+0100
TZNAME:CET
DTSTART:20251026T010000
END:STANDARD
END:VTIMEZONE
BEGIN:VEVENT
DTSTART;TZID=Europe/Budapest:20240401T190000
DTEND;TZID=Europe/Budapest:20240401T210000
DTSTAMP:20260423T063038
CREATED:20240326T020924Z
LAST-MODIFIED:20250301T193203Z
UID:9728-1711998000-1712005200@bodysex.com
SUMMARY:Bodysex Documentary Screening with Eszter
DESCRIPTION:This event will be held in Hungarian. \nBodysex Documentary screeningorganized by Eszter Pallagi1 April 2025\, 7pm CETLocation: onlinePrice: freeEmail: testszereto@gmail.comEvent webpage: https://www.facebook.com/events/1141017154218885Eszter’s website: www.pallagieszter.huRegistration: https://docs.google.com/forms/d/e/1FAIpQLSdiqF7giZjA4nZMw2h2B4BCxERC93SAuKmIDxIrHYWB0AClnA/viewform?fbclid=IwAR0c3xWn4lMn3eJcVOf-WlhNorpfAuKRGLx5gyvHOgAXwwIze-FAgbMNXbYOnline vetítés keretében együtt megnézzük a 2011-es Bodysex® dokumentumfilmet\, amiegy Betty Dodson® által vezetett valós Bodysex workshopot mutat be. Láthatjuk éshallhatjuk a megosztásokat és a Bodysex rituálékat: a vulvanézegetést és a Rock and Rolltechnikát is.A dokumentumfilm lehetőséget ad arra\, hogy női szemszögből lássuk a női szexualitást\,információt kapjunk a női vulva anatómiájáról a gyönyör szempontjából\, és értékesneklássuk a női maszturbálást és orgazmust.A filmben meztelenség\, valódi vulvák\, maszturbálás és hiteles orgazmusok láthatóak.Célja\, hogy nyíltan és őszintén tájékoztassa a nézőket a női szexualitásról.A vetítés ingyenes és regisztrációhoz kötött\, csak 18 év feletti nők vehetnek részt rajta.A film kb. 1 óra 40 perc hosszú\, utána még lesz egy kis idő kérdezni és beszélgetni róla(annak\, aki szeretne maradni).A film angolul van\, nincs feliratozva és nem is tolmácsoljuk közben. (Akkor ismegnézheted\, ha nem\, vagy nem jól tudsz angolul\, beszélgetni magyarul fogunk előtte ésutána.)Egy Zoom linket küldök majd a regisztráltaknak. Nem kell semmihez hozzászólnod azesemény alatt ha nem akarsz\, maradhatsz végig szemlélő.
URL:https://bodysex.com/event/bodysex-documentary-screening-with-eszter/2024-04-01/
LOCATION:Zoom
CATEGORIES:Video Watch Party
ATTACH;FMTTYPE=image/jpeg:https://bodysex.com/wp-content/uploads/2024/03/EszterNovScreening.jpg
ORGANIZER;CN="Eszter Pallagi":MAILTO:testszereto@gmail.com
END:VEVENT
END:VCALENDAR