BEGIN:VCALENDAR
VERSION:2.0
PRODID:-//Bodysex - ECPv6.15.20//NONSGML v1.0//EN
CALSCALE:GREGORIAN
METHOD:PUBLISH
X-WR-CALNAME:Bodysex
X-ORIGINAL-URL:https://bodysex.com
X-WR-CALDESC:Events for Bodysex
REFRESH-INTERVAL;VALUE=DURATION:PT1H
X-Robots-Tag:noindex
X-PUBLISHED-TTL:PT1H
BEGIN:VTIMEZONE
TZID:UTC
BEGIN:STANDARD
TZOFFSETFROM:+0000
TZOFFSETTO:+0000
TZNAME:UTC
DTSTART:20220101T000000
END:STANDARD
END:VTIMEZONE
BEGIN:VEVENT
DTSTART;VALUE=DATE:20230121
DTEND;VALUE=DATE:20230123
DTSTAMP:20260423T063130
CREATED:20220125T221348Z
LAST-MODIFIED:20230310T171527Z
UID:2987-1674259200-1674431999@bodysex.com
SUMMARY:Bodysex Workshop with Amy
DESCRIPTION:Celebrate Pleasure & Ditch Body Shame in Authentic Sisterhood. \nFeel Whole\, Loved & Beautiful. Live Confidently & Passionately! \nBecause our society trivializes sex and shames women for our sexual desires\, we often know little about ourselves. Or we deny the importance of our sexual selves. Shame restricts access to full self-expression. \nThis is why taking a Bodysex workshop is so TRANSFORMATIVE. We focus on overcoming negative body image and pleasure anxiety. \nThis unique workshop has been taught by famed sexologist\, Betty Dodson\, for over 40 years. Because it works\, the Joyful Self Love Institute is now offering the same signature Betty Dodson Bodysex Workshop on the West Coast. \n*April 15-16 is for vulva-owners only. July 15-16 is for anyone identifying as female.  You’re invited to join these circles of sisterhood and I will do my best to ensure you feel safe and supported. You’re welcome no matter your sex at birth\, age\, sexual orientation\, race\, or country of origin. If you’re unclear about what this means\, unsure if you will feel safe enough or simply have questions\, please reach out to me! \nWorkshop Details\nDates: Sat\, April 15th and Sun\, April 16th. 1-6pm. BOOKING NOW. \nLocation: Stevenson\, WA – the heart of the Columbia River Gorge (Nat’l Scenic Area\, 45 mins East of Portland). Portland International Airport is the closest airport (PDX). \nCost: $495. Registration is limited to 10 participants. \nGuarantee: If you’re dissatisfied with the workshop\, I will refund your money (less the cost of purchased add-ons). Note\, I’ve been offering this for quite some time and NEVER had to make good. Really! \nOptional Add-Ons: Optional add-ons are the famous Hitachi Magic Wand cordless vibrator\, Betty’s barbell\, and 2 nights of Overnight Lodging with Breakfast provided each morning. \nOvernight: I have limited capacity for overnight guests (max of 5)\, but spending the nights turns the workshop into a true retreat. I have a beautiful and comfortable mid-century modern home with a great deck and hot tub. I will provide a big continental breakfast each morning. Lunch & dinner will be on your own. 3 private rooms are available for $99/night\, 1 futon in a private downstairs room is $75/night\, and 1 pullout sofa in a semi-private downstairs space is $69. The 3 bathrooms are all shared. The retreat is a great way to further bond with all your new Bodysex Sister Goddesses! Truly\, you’ll be thrilled you stayed. \nEmail Amy to register: Amy@JoyfulSelfLove.com\n  \n			\n				Workshop Details\n			\n				About Amy
URL:https://bodysex.com/event/bodysex-workshop-with-amy/2023-01-21/
LOCATION:Retreat home outside Portland\, OR
CATEGORIES:Bodysex Workshop - In-person,Retreat - In-person
ATTACH;FMTTYPE=image/jpeg:https://bodysex.com/wp-content/uploads/2022/01/AmyBodysex.jpg
ORGANIZER;CN="Amy Weissfeld%2C Somatic Sex Educator":MAILTO:Amy@JoyfulSelfLove.com
END:VEVENT
END:VCALENDAR