BEGIN:VCALENDAR
VERSION:2.0
PRODID:-//Bodysex - ECPv6.15.20//NONSGML v1.0//EN
CALSCALE:GREGORIAN
METHOD:PUBLISH
X-WR-CALNAME:Bodysex
X-ORIGINAL-URL:https://bodysex.com
X-WR-CALDESC:Events for Bodysex
REFRESH-INTERVAL;VALUE=DURATION:PT1H
X-Robots-Tag:noindex
X-PUBLISHED-TTL:PT1H
BEGIN:VTIMEZONE
TZID:UTC
BEGIN:STANDARD
TZOFFSETFROM:+0000
TZOFFSETTO:+0000
TZNAME:UTC
DTSTART:20220101T000000
END:STANDARD
END:VTIMEZONE
BEGIN:VEVENT
DTSTART;TZID=UTC:20230225T130000
DTEND;TZID=UTC:20230226T180000
DTSTAMP:20260423T061027
CREATED:20220804T222057Z
LAST-MODIFIED:20220920T180256Z
UID:5073-1677330000-1677434400@bodysex.com
SUMMARY:Bodysex Workshop with Kristy
DESCRIPTION:Reserve my spot\n			\n				\n				\n				\n				\n				Workshop Dates: February 25-26\, 20231:00 pm to 6:00 pm each day \nPrice: $597 USD \nKristy’s contact: pathways2pleasure@gmail.com \nBodysex® is a pleasure-centered\, experiential workshop where participants explore their relationships with their body and their orgasm. One of the main things we focus on first in both the group workshop and my one-on-one coaching is connecting with your body (without any toys). Our bodies have a huge capacity for pleasure in many ways beyond our vulvas\, despite the messaging we are often fed from the media. We explore our relationships with our bodies as well as our sexuality\, and I provide education about female anatomy. We talk a lot about barriers to orgasm\, specifically the role that our minds play in inhibiting our ability to get “in the mood” and how long it actually takes women to become aroused.  \nThe two-day workshop is based on Betty Dodson’s workshop format\, which includes the following rituals:  \n– Body Appreciation (aka Genital Show-and-Tell) \n– Rock-n-Roll Demo \n– Erotic Recess \n– Group Massage \nIn addition\, we also explore sexual fantasies\, experience a guided self-touch meditation\, and incorporate body movement.  \nThis group workshop is open to cisgender women and transgender\, nonbinary\, and gender-expansive individuals.  \nThis in-person event is scheduled for Saturday & Sunday\, February 25-26\, 2023\, from 1:00-6:00 p.m. Eastern on both days. The location is Chapel Hill\, North Carolina\, USA. The two-day workshop costs $597 and a non-refundable deposit of $200 is required to secure your spot. \nReserve your spot today by visiting: https://pathwaystopleasure.com/reserve-my-spot-bodysex \nPlease Note: Proof of full Covid-19 vaccination is required to attend OR proof of a negative Covid-19 test within the prior 24 hours. With this policy in place\, masks are not required during our time together (masks are optional). I will update if anything changes regarding the Covid-19 policy.
URL:https://bodysex.com/event/bodysex-workshop-with-kristy-2/
LOCATION:Kristy’s Space in North Carolina\, Chapel Hill\, North Carolina
CATEGORIES:Bodysex Workshop - In-person
ATTACH;FMTTYPE=image/png:https://bodysex.com/wp-content/uploads/2022/07/Kristy-Circle.png
ORGANIZER;CN="Kristy Lowther":MAILTO:pathways2pleasure@gmail.com
END:VEVENT
END:VCALENDAR