BEGIN:VCALENDAR
VERSION:2.0
PRODID:-//Bodysex - ECPv6.15.20//NONSGML v1.0//EN
CALSCALE:GREGORIAN
METHOD:PUBLISH
X-WR-CALNAME:Bodysex
X-ORIGINAL-URL:https://bodysex.com
X-WR-CALDESC:Events for Bodysex
REFRESH-INTERVAL;VALUE=DURATION:PT1H
X-Robots-Tag:noindex
X-PUBLISHED-TTL:PT1H
BEGIN:VTIMEZONE
TZID:UTC
BEGIN:STANDARD
TZOFFSETFROM:+0000
TZOFFSETTO:+0000
TZNAME:UTC
DTSTART:20210101T000000
END:STANDARD
END:VTIMEZONE
BEGIN:VEVENT
DTSTART;TZID=UTC:20221105T120000
DTEND;TZID=UTC:20221106T170000
DTSTAMP:20260423T060955
CREATED:20220920T174043Z
LAST-MODIFIED:20220920T174046Z
UID:5310-1667649600-1667754000@bodysex.com
SUMMARY:Bodysex Workshop with Libby
DESCRIPTION:Email buffalobodysex@gmail.com to register \nBodysex® is a practice designed by Betty Dodson that helps women enhance pleasure\, heal shame and learn to have independent orgasms. In this two-day workshop\, we will connect with our bodies and explore our relationship to our orgasm. \nWe will learn about our pleasure anatomy\, take a look at our beautiful vulvas\, engage in self-love and enhance our own sexual pleasure while supporting ourselves and our fellow sisters.  \nThe workshop will include several activities: \n\nGroups shares\nGenital show and tell\nErotic recess\nGroup massage\n\nThis in-person workshop will take place on the weekend of November 5-6 from 12:00pm – 5:00pm EST both days. We will meet in the historic Allentown area of Buffalo\, NY. \nReady to join the sisterhood? Send an email to BuffaloBodysex@gmail.com to register! Please note there is a $200 non-refundable deposit required to reserve your spot in the circle. \nThis workshop is open to all women and people with vulvas. \nCOVID-19 Policy: To keep us all healthy and safe\, participation will be limited to those who are fully vaccinated\, and proof of vaccination will be required before the workshop. Masks are not required. \nOrganizer: Libby Herr \nDates and times: November 5 & 6; 12:00pm – 5:00pm EST \nLocation: Buffalo\, NY \nPrice: $395 \nEmail: BuffaloBodysex@gmail.com \nHow to Register: Email buffalobodysex@gmail.com to register
URL:https://bodysex.com/event/bodysex-workshop-with-libby/
LOCATION:Location in Buffalo\, NY\, Buffalo\, NY\, United States
ATTACH;FMTTYPE=image/jpeg:https://bodysex.com/wp-content/uploads/2022/09/Libby-Workshop-Pic-scaled.jpg
ORGANIZER;CN="Libby Herr":MAILTO:BuffaloBodysex@gmail.com
END:VEVENT
END:VCALENDAR