BEGIN:VCALENDAR
VERSION:2.0
PRODID:-//Bodysex - ECPv6.15.20//NONSGML v1.0//EN
CALSCALE:GREGORIAN
METHOD:PUBLISH
X-WR-CALNAME:Bodysex
X-ORIGINAL-URL:https://bodysex.com
X-WR-CALDESC:Events for Bodysex
REFRESH-INTERVAL;VALUE=DURATION:PT1H
X-Robots-Tag:noindex
X-PUBLISHED-TTL:PT1H
BEGIN:VTIMEZONE
TZID:Europe/Vienna
BEGIN:DAYLIGHT
TZOFFSETFROM:+0100
TZOFFSETTO:+0200
TZNAME:CEST
DTSTART:20210328T010000
END:DAYLIGHT
BEGIN:STANDARD
TZOFFSETFROM:+0200
TZOFFSETTO:+0100
TZNAME:CET
DTSTART:20211031T010000
END:STANDARD
BEGIN:DAYLIGHT
TZOFFSETFROM:+0100
TZOFFSETTO:+0200
TZNAME:CEST
DTSTART:20220327T010000
END:DAYLIGHT
BEGIN:STANDARD
TZOFFSETFROM:+0200
TZOFFSETTO:+0100
TZNAME:CET
DTSTART:20221030T010000
END:STANDARD
BEGIN:DAYLIGHT
TZOFFSETFROM:+0100
TZOFFSETTO:+0200
TZNAME:CEST
DTSTART:20230326T010000
END:DAYLIGHT
BEGIN:STANDARD
TZOFFSETFROM:+0200
TZOFFSETTO:+0100
TZNAME:CET
DTSTART:20231029T010000
END:STANDARD
END:VTIMEZONE
BEGIN:VEVENT
DTSTART;TZID=Europe/Vienna:20220620T193000
DTEND;TZID=Europe/Vienna:20220620T223000
DTSTAMP:20260422T140558
CREATED:20220517T032619Z
LAST-MODIFIED:20220517T032628Z
UID:4644-1655753400-1655764200@bodysex.com
SUMMARY:Erotic Selflove with Anna
DESCRIPTION:Workshop: Erotic Selflove\nTime & Date: 20. June 2022\, 7.30 – 10-30 pm\nVenue: Schwelle Vienna\nLocation: Tellgasse 25\, 1150 Vienna\, Austria\nOrganizer: Anna Scheer\nEmail: hello@annascheer.com\nPrice: 65€\n \n\nLink to tickets: https://schwelle.at/kalender/\nLink to my webpage: https://www.annascheer.com/bodysex-circle\n\n \n\nThis advanced workshop is for sisters and people with vulvas who have already attended a bodysex workshop. This evening opens up a space for sensual exploration of our pleasure. \nYou book 3 hours of pure pleasure for lust expansion\, self-healing and self-love. Finally\, we will close the night with a divine group massage\, which is an exercise of non – sexual touch. Consensual touch heals and grounds us. 
URL:https://bodysex.com/event/erotic-selflove-with-anna/
LOCATION:Schwelle Vienna\, Tellgasse 25\, 1150\, Vienna\, Austria
CATEGORIES:Advanced Bodysex Workshop - in-person
ATTACH;FMTTYPE=image/jpeg:https://bodysex.com/wp-content/uploads/2022/05/Bild_Erotic-Selflove_soft.jpg
ORGANIZER;CN="Anna Scheer":MAILTO:Email: hello@annascheer.com
END:VEVENT
END:VCALENDAR