BEGIN:VCALENDAR
VERSION:2.0
PRODID:-//Bodysex - ECPv6.15.20//NONSGML v1.0//EN
CALSCALE:GREGORIAN
METHOD:PUBLISH
X-WR-CALNAME:Bodysex
X-ORIGINAL-URL:https://bodysex.com
X-WR-CALDESC:Events for Bodysex
REFRESH-INTERVAL;VALUE=DURATION:PT1H
X-Robots-Tag:noindex
X-PUBLISHED-TTL:PT1H
BEGIN:VTIMEZONE
TZID:America/New_York
BEGIN:DAYLIGHT
TZOFFSETFROM:-0500
TZOFFSETTO:-0400
TZNAME:EDT
DTSTART:20210314T070000
END:DAYLIGHT
BEGIN:STANDARD
TZOFFSETFROM:-0400
TZOFFSETTO:-0500
TZNAME:EST
DTSTART:20211107T060000
END:STANDARD
BEGIN:DAYLIGHT
TZOFFSETFROM:-0500
TZOFFSETTO:-0400
TZNAME:EDT
DTSTART:20220313T070000
END:DAYLIGHT
BEGIN:STANDARD
TZOFFSETFROM:-0400
TZOFFSETTO:-0500
TZNAME:EST
DTSTART:20221106T060000
END:STANDARD
BEGIN:DAYLIGHT
TZOFFSETFROM:-0500
TZOFFSETTO:-0400
TZNAME:EDT
DTSTART:20230312T070000
END:DAYLIGHT
BEGIN:STANDARD
TZOFFSETFROM:-0400
TZOFFSETTO:-0500
TZNAME:EST
DTSTART:20231105T060000
END:STANDARD
END:VTIMEZONE
BEGIN:VEVENT
DTSTART;TZID=America/New_York:20220921T183000
DTEND;TZID=America/New_York:20220921T200000
DTSTAMP:20260423T060459
CREATED:20220804T222824Z
LAST-MODIFIED:20220926T154904Z
UID:5080-1663785000-1663790400@bodysex.com
SUMMARY:Virtual Bodysex Workshop with Kristy
DESCRIPTION:Register here\n			\n				\n				\n				\n				\n				Virtual Bodysex® is a course modeled after Betty Dodson’s in-person Bodysex® Workshop. The course includes five weekly zoom sessions and two individual sessions. Group sessions provide instruction and the opportunity to connect\, share lived experiences and learn from others. Individual sessions are scheduled at your convenience and customized to meet your needs. Self-exploration and practice will be assigned between group sessions. \nWednesdays\, from September 21st until October 19th\, 20226:30 p.m. Eastern Standard Time (75-90 minutes) \nThe course meets weekly via Zoom for five sessions at 6:30 pm. EST. Each session lasts between 75-90 minutes. Your two individual sessions may be scheduled after the course begins. The course costs $597\, and a non-refundable deposit of $200 is required to secure your spot. \nReserve your spot today by visiting: https://pathwaystopleasure.com/reserve-my-spot-virtual-bodysex
URL:https://bodysex.com/event/virtual-bodysex-workshop-with-kristy/
LOCATION:Zoom
CATEGORIES:Bodysex Workshop - Virtual
ATTACH;FMTTYPE=image/png:https://bodysex.com/wp-content/uploads/2022/08/Kristy-Virtual-Bodysex.png
ORGANIZER;CN="Kristy Lowther":MAILTO:pathways2pleasure@gmail.com
END:VEVENT
END:VCALENDAR