BEGIN:VCALENDAR
VERSION:2.0
PRODID:-//Bodysex - ECPv6.15.20//NONSGML v1.0//EN
CALSCALE:GREGORIAN
METHOD:PUBLISH
X-WR-CALNAME:Bodysex
X-ORIGINAL-URL:https://bodysex.com
X-WR-CALDESC:Events for Bodysex
REFRESH-INTERVAL;VALUE=DURATION:PT1H
X-Robots-Tag:noindex
X-PUBLISHED-TTL:PT1H
BEGIN:VTIMEZONE
TZID:America/New_York
BEGIN:DAYLIGHT
TZOFFSETFROM:-0500
TZOFFSETTO:-0400
TZNAME:EDT
DTSTART:20240310T070000
END:DAYLIGHT
BEGIN:STANDARD
TZOFFSETFROM:-0400
TZOFFSETTO:-0500
TZNAME:EST
DTSTART:20241103T060000
END:STANDARD
BEGIN:DAYLIGHT
TZOFFSETFROM:-0500
TZOFFSETTO:-0400
TZNAME:EDT
DTSTART:20250309T070000
END:DAYLIGHT
BEGIN:STANDARD
TZOFFSETFROM:-0400
TZOFFSETTO:-0500
TZNAME:EST
DTSTART:20251102T060000
END:STANDARD
BEGIN:DAYLIGHT
TZOFFSETFROM:-0500
TZOFFSETTO:-0400
TZNAME:EDT
DTSTART:20260308T070000
END:DAYLIGHT
BEGIN:STANDARD
TZOFFSETFROM:-0400
TZOFFSETTO:-0500
TZNAME:EST
DTSTART:20261101T060000
END:STANDARD
END:VTIMEZONE
BEGIN:VEVENT
DTSTART;TZID=America/New_York:20250201T110000
DTEND;TZID=America/New_York:20250201T123000
DTSTAMP:20260423T063149
CREATED:20250110T180851Z
LAST-MODIFIED:20260123T235314Z
UID:12824-1738407600-1738413000@bodysex.com
SUMMARY:Vulva Pleasure Zones with Carlin
DESCRIPTION:Vulva Pleasure Zoneswith Carlin Ross\nSaturday\, Month Xth\n11:00 am Eastern (New York)\nOn Zoom  1.5 hours\n			\n				Register\n			\n				\n				\n				\n				\n				Don’t want to wait for the live class?\nPurchase Orgasm Essentials to access online Vulva Pleasure Zones class now. Five classes included. $100 \n			\n				Orgasm Essentials Info & Purchase\n			\n				\n				\n				\n				\n				Vulva Pleasure Zones Description:There are so many pleasure zones on your vulva – so many different ways to touch yourself – that we need to be taught where/how to touch and supported to put down our shame.\n\nIn this live class\, we’ll go over pleasure anatomy with explicit visual aids identifying each pleasure zone\, sample video\, and live Q&A. All questions are welcome.  You will receive audio podcasts to guide you through step-by-step instruction including a body meditation and vulva massage.\n\nKnow that women have the most sophisticated sex organ on the planet capable of endless pleasure that never ages.  I watched Betty have orgasms until she was 91 years old; it’s never too late to start.   We just need access to clear information about our sexual response and support to explore our bodies and connect to our preference.\n\n\nI hope to see you there.  We’ll be live for 1.5 hours.\nCost: $20 \nYou’ll receive the Zoom link via email after purchase plus reminder emails a week before\, day before\, and hour before class. Option to add text reminders. \n  \n			\n				\n				\n				\n				\n				\n				\n			\n				Register\n			\n				\n				\n				\n				\n				This presentation is for women/vulva-havers only to create a safer space for sharing. \nCarlin’s presentation will be recorded. Participants\, Q&A’s\, and any shares will not be recorded. You can keep your camera turned off and change your Zoom name if you wish. \nAfter the session\, you will receive a link to view a recorded video of Carlin’s talk plus suggested homeowrk and links to related resources to explore. You’ll have access to the recording for 30 days after the class date. \nAfter purchase\, there are no refunds or cancellations. If you are unable to attend the session live\, you will receive a link to access the recorded video from our session and explore the suggested resources for 30 days after the session.
URL:https://bodysex.com/event/vulva-pleasure-zones-with-carlin/2025-02-01/
LOCATION:Zoom
CATEGORIES:Class
ATTACH;FMTTYPE=image/jpeg:https://bodysex.com/wp-content/uploads/2025/01/Vulva-Pleasure-Zones-20.jpeg
ORGANIZER;CN="Carlin Ross & Laura Bogush":MAILTO:Laura@BettyDodsonFoundation.com
END:VEVENT
END:VCALENDAR