BEGIN:VCALENDAR
VERSION:2.0
PRODID:-//Bodysex - ECPv6.15.20//NONSGML v1.0//EN
CALSCALE:GREGORIAN
METHOD:PUBLISH
X-WR-CALNAME:Bodysex
X-ORIGINAL-URL:https://bodysex.com
X-WR-CALDESC:Events for Bodysex
REFRESH-INTERVAL;VALUE=DURATION:PT1H
X-Robots-Tag:noindex
X-PUBLISHED-TTL:PT1H
BEGIN:VTIMEZONE
TZID:UTC
BEGIN:STANDARD
TZOFFSETFROM:+0000
TZOFFSETTO:+0000
TZNAME:UTC
DTSTART:20220101T000000
END:STANDARD
END:VTIMEZONE
BEGIN:VEVENT
DTSTART;VALUE=DATE:20230515
DTEND;VALUE=DATE:20230521
DTSTAMP:20260423T063216
CREATED:20230316T185805Z
LAST-MODIFIED:20240112T193713Z
UID:6827-1684108800-1684627199@bodysex.com
SUMMARY:Women´s Pleasure Retreat in Tenerife with Anna and Céline
DESCRIPTION:Anna's Website\n			\n			\n				\n				\n				\n				\n				\n				Céline's Website\n			\n			\n				\n				\n				\n				\n			\n				\n				\n				\n				\n				\n				\n				\n				\n				\n				\n				Women’s Pleasure Retreat Tenerife with Anna and Céline  \nDate: 4th to 9th of February \nLocation: La Orotava\, Tenerife\, Spain \nPrice: \nShared bedroom (4 women): 1600€ \nShared bedroom (2 women): 2000€ \nPrivate room with balcony (1 woman): 2200€ \nLuxury private room (1 woman): 2500€ \nWe have a flash sale until the 18th of January. Women will get a 10% discount using the code: 4PLEASURE \nhttps://www.wetravel.com/trips/women-s-pleasure-retreat-anna-scheer-la-orotava-santa-cruz-de-tenerife-spain-42354446 \nAnna’s and Céline’s pleasure retreats for women\, go beyond conventional wellness experiences. We offer Betty Dodsons transformative Bodysex®️ method that combines expert education on female anatomy\, self-love practices\, and intimate sharing circles.  \nWhat sets us apart is our commitment to creating a safer and sacred space where women can explore their bodies\, embrace their sensuality\, and cultivate a deeper connection with themselves in small groups (10 women).  \nJoin us on a journey of liberation\, where empowerment meets pleasure\, and self-love becomes a profound and transformative experience. \nWhat’s included  \n\nAccommodation6 nights and 5 days at the exclusive Finca El Drago\n\n\nPrivate ChefDaily delicious\, freshly cooked meals\n\n\nExperienced TeachersWe are qualified teachers and facilitators\, who’re guardians providing a safer\, consensual and mindful container\n\n\nOn-site Pool & SaunaEnjoy visiting the pool and sauna for relaxation\n\n\nNature AdventureWe’ll take you on an excursion to beautiful nature sights on the island\n\n\nClosing Fire CeremonyA soothing ritual for integrating the personal transformational journey\n\n\nGroup Coaching PackageIncluded are 4 online session to dive into answering your questions\, connecting the group and building a supportive community of sisterhood.
URL:https://bodysex.com/event/womens-pleasure-retreat-in-tenerife-with-anna-and-celine/2023-05-15/
LOCATION:La Orotava\, Tenerife\, Spain
CATEGORIES:Bodysex Workshop - In-person,Retreat - In-person
ATTACH;FMTTYPE=image/jpeg:https://bodysex.com/wp-content/uploads/2023/03/Celine-Feature-Pic.jpeg
ORGANIZER;CN="Anna Scheer":MAILTO:Email: hello@annascheer.com
END:VEVENT
END:VCALENDAR