BEGIN:VCALENDAR
VERSION:2.0
PRODID:-//Bodysex - ECPv6.15.20//NONSGML v1.0//EN
CALSCALE:GREGORIAN
METHOD:PUBLISH
X-WR-CALNAME:Bodysex
X-ORIGINAL-URL:https://bodysex.com
X-WR-CALDESC:Events for Bodysex
REFRESH-INTERVAL;VALUE=DURATION:PT1H
X-Robots-Tag:noindex
X-PUBLISHED-TTL:PT1H
BEGIN:VTIMEZONE
TZID:Europe/London
BEGIN:DAYLIGHT
TZOFFSETFROM:+0000
TZOFFSETTO:+0100
TZNAME:BST
DTSTART:20250330T010000
END:DAYLIGHT
BEGIN:STANDARD
TZOFFSETFROM:+0100
TZOFFSETTO:+0000
TZNAME:GMT
DTSTART:20251026T010000
END:STANDARD
BEGIN:DAYLIGHT
TZOFFSETFROM:+0000
TZOFFSETTO:+0100
TZNAME:BST
DTSTART:20260329T010000
END:DAYLIGHT
BEGIN:STANDARD
TZOFFSETFROM:+0100
TZOFFSETTO:+0000
TZNAME:GMT
DTSTART:20261025T010000
END:STANDARD
BEGIN:DAYLIGHT
TZOFFSETFROM:+0000
TZOFFSETTO:+0100
TZNAME:BST
DTSTART:20270328T010000
END:DAYLIGHT
BEGIN:STANDARD
TZOFFSETFROM:+0100
TZOFFSETTO:+0000
TZNAME:GMT
DTSTART:20271031T010000
END:STANDARD
END:VTIMEZONE
BEGIN:VEVENT
DTSTART;TZID=Europe/London:20260321T120000
DTEND;TZID=Europe/London:20260322T170000
DTSTAMP:20260422T190619
CREATED:20250630T200950Z
LAST-MODIFIED:20250630T200950Z
UID:14971-1774094400-1774198800@bodysex.com
SUMMARY:Bodysex Workshop in UK with Emma
DESCRIPTION:More Information\n			\n				\n				\n				\n				\n				\n\n\n\n\n\nTransform your relationship to your body. \n\n\nExplore Orgasmic techniques to increase your pleasure. \n\n\nJoin an Orgasmic Sisterhood that celebrates sexual sovereignty. \n\n\nLearn the sex ed you should have learned in school. \n\n\nRituals that will guide your body\, mind and soul into orgasmic bliss. \n\n\nTransform body shame and sexual stagnation\, repression and trauma. \n\n\n\n \nContact – hello@emmasnellgrove.com  \n\n\n\n			\n				Register
URL:https://bodysex.com/event/bodysex-workshop-with-emma-in-uk/2026-03-21/
LOCATION:Emma’s Home\, Edinburgh\, Scotland\, United Kingdom
CATEGORIES:Bodysex Workshop - In-person
ATTACH;FMTTYPE=image/jpeg:https://bodysex.com/wp-content/uploads/2025/06/Emma-March-2026.jpg
ORGANIZER;CN="Emma Snellgrove":MAILTO:hello@emmasnellgrove.com
END:VEVENT
END:VCALENDAR