BEGIN:VCALENDAR
VERSION:2.0
PRODID:-//Bodysex - ECPv6.15.20//NONSGML v1.0//EN
CALSCALE:GREGORIAN
METHOD:PUBLISH
X-WR-CALNAME:Bodysex
X-ORIGINAL-URL:https://bodysex.com
X-WR-CALDESC:Events for Bodysex
REFRESH-INTERVAL;VALUE=DURATION:PT1H
X-Robots-Tag:noindex
X-PUBLISHED-TTL:PT1H
BEGIN:VTIMEZONE
TZID:America/New_York
BEGIN:DAYLIGHT
TZOFFSETFROM:-0500
TZOFFSETTO:-0400
TZNAME:EDT
DTSTART:20240310T070000
END:DAYLIGHT
BEGIN:STANDARD
TZOFFSETFROM:-0400
TZOFFSETTO:-0500
TZNAME:EST
DTSTART:20241103T060000
END:STANDARD
BEGIN:DAYLIGHT
TZOFFSETFROM:-0500
TZOFFSETTO:-0400
TZNAME:EDT
DTSTART:20250309T070000
END:DAYLIGHT
BEGIN:STANDARD
TZOFFSETFROM:-0400
TZOFFSETTO:-0500
TZNAME:EST
DTSTART:20251102T060000
END:STANDARD
BEGIN:DAYLIGHT
TZOFFSETFROM:-0500
TZOFFSETTO:-0400
TZNAME:EDT
DTSTART:20260308T070000
END:DAYLIGHT
BEGIN:STANDARD
TZOFFSETFROM:-0400
TZOFFSETTO:-0500
TZNAME:EST
DTSTART:20261101T060000
END:STANDARD
END:VTIMEZONE
BEGIN:VTIMEZONE
TZID:UTC
BEGIN:STANDARD
TZOFFSETFROM:+0000
TZOFFSETTO:+0000
TZNAME:UTC
DTSTART:20220101T000000
END:STANDARD
END:VTIMEZONE
BEGIN:VEVENT
DTSTART;TZID=America/New_York:20250601T140000
DTEND;TZID=America/New_York:20250601T150000
DTSTAMP:20260422T233446
CREATED:20250510T113112Z
LAST-MODIFIED:20260326T141937Z
UID:13714-1748786400-1748790000@bodysex.com
SUMMARY:Opening: Betty Dodson Art Auction with Carlin
DESCRIPTION:Opening: Betty Dodson Art Auction\nSunday\, May 3\, 2026\n11:00 am to 12:00 pm EST (New York)\nZoom link with Registraion\nAll are welcome\nFree\n			\n				REGISTER\n			\n				\n				\n				\n				\n				Join us to celebrate the opening of the first-ever auction of original art by the legendary Betty Dodson. Carlin will talk about each piece offered for sale. \nOnline bids will be accepted from May 3-17 at https://bodysex.com/auction/ \nEveryone is welcome to attend \n			\n				REGISTER\n			\n				Preview Auction
URL:https://bodysex.com/event/opening-betty-dodson-art-auction-with-carlin/2025-06-01/
LOCATION:Zoom
CATEGORIES:Presentation
ATTACH;FMTTYPE=image/jpeg:https://bodysex.com/wp-content/uploads/2025/05/BAD-Art-Auction-May-26.jpeg
ORGANIZER;CN="Carlin Ross":MAILTO:admin@cross.com
END:VEVENT
BEGIN:VEVENT
DTSTART;VALUE=DATE:20230616
DTEND;VALUE=DATE:20230620
DTSTAMP:20260422T233446
CREATED:20221017T221400Z
LAST-MODIFIED:20221017T221535Z
UID:5568-1686873600-1687219199@bodysex.com
SUMMARY:Bodysex Workshop Retreat with Carlin & Laura
DESCRIPTION:Bodysex® Workshop Retreat\n						\n						  \nwith Carlin Ross and Laura Bogush\nChoose June 12 – 15\, 2023 or June 16 – 19\, 2023 \nMenla Resort & Spa Centerin the Catskills Mountains of New York\, USA \n$2169 – $2586 USD for workshop\, 3 nights\, all mealsMagic Wand and Betty’s Barbell included \n						More InfoRegister Here
URL:https://bodysex.com/event/bodysex-workshop-retreat-with-carlin-ross-and-laura-bogush/
LOCATION:Menla\, 375 Pantherkill Rd\, Phoenicia\, NY\, 12464\, United States
CATEGORIES:Bodysex Workshop - In-person,Retreat - In-person
ATTACH;FMTTYPE=image/jpeg:https://bodysex.com/wp-content/uploads/2022/09/Bodysex-Menla-2022.jpeg
ORGANIZER;CN="Carlin Ross":MAILTO:admin@cross.com
END:VEVENT
BEGIN:VEVENT
DTSTART;VALUE=DATE:20230612
DTEND;VALUE=DATE:20230616
DTSTAMP:20260422T233446
CREATED:20221017T221010Z
LAST-MODIFIED:20221028T162047Z
UID:5564-1686528000-1686873599@bodysex.com
SUMMARY:Bodysex Workshop Retreat with Carlin & Laura
DESCRIPTION:Bodysex® Workshop Retreat\n						\n						  \nwith Carlin Ross and Laura Bogush\nChoose June 12 – 15\, 2023 or June 16 – 19\, 2023 \nMenla Resort & Spa Centerin the Catskills Mountains of New York\, USA \n$2169 – $2586 USD for workshop\, 3 nights\, all mealsMagic Wand and Betty’s Barbell included \n						More InfoRegister Here
URL:https://bodysex.com/event/bodysex-workshop-retreat-with-carlin-laura/
LOCATION:Menla\, 375 Pantherkill Rd\, Phoenicia\, NY\, 12464\, United States
CATEGORIES:Bodysex Workshop - In-person,Retreat - In-person
ATTACH;FMTTYPE=image/jpeg:https://bodysex.com/wp-content/uploads/2022/09/Bodysex-Menla-2022.jpeg
ORGANIZER;CN="Carlin Ross":MAILTO:admin@cross.com
END:VEVENT
END:VCALENDAR