BEGIN:VCALENDAR
VERSION:2.0
PRODID:-//Bodysex - ECPv6.15.20//NONSGML v1.0//EN
CALSCALE:GREGORIAN
METHOD:PUBLISH
X-WR-CALNAME:Bodysex
X-ORIGINAL-URL:https://bodysex.com
X-WR-CALDESC:Events for Bodysex
REFRESH-INTERVAL;VALUE=DURATION:PT1H
X-Robots-Tag:noindex
X-PUBLISHED-TTL:PT1H
BEGIN:VTIMEZONE
TZID:Europe/Vienna
BEGIN:DAYLIGHT
TZOFFSETFROM:+0100
TZOFFSETTO:+0200
TZNAME:CEST
DTSTART:20210328T010000
END:DAYLIGHT
BEGIN:STANDARD
TZOFFSETFROM:+0200
TZOFFSETTO:+0100
TZNAME:CET
DTSTART:20211031T010000
END:STANDARD
BEGIN:DAYLIGHT
TZOFFSETFROM:+0100
TZOFFSETTO:+0200
TZNAME:CEST
DTSTART:20220327T010000
END:DAYLIGHT
BEGIN:STANDARD
TZOFFSETFROM:+0200
TZOFFSETTO:+0100
TZNAME:CET
DTSTART:20221030T010000
END:STANDARD
BEGIN:DAYLIGHT
TZOFFSETFROM:+0100
TZOFFSETTO:+0200
TZNAME:CEST
DTSTART:20230326T010000
END:DAYLIGHT
BEGIN:STANDARD
TZOFFSETFROM:+0200
TZOFFSETTO:+0100
TZNAME:CET
DTSTART:20231029T010000
END:STANDARD
BEGIN:DAYLIGHT
TZOFFSETFROM:+0100
TZOFFSETTO:+0200
TZNAME:CEST
DTSTART:20240331T010000
END:DAYLIGHT
BEGIN:STANDARD
TZOFFSETFROM:+0200
TZOFFSETTO:+0100
TZNAME:CET
DTSTART:20241027T010000
END:STANDARD
BEGIN:DAYLIGHT
TZOFFSETFROM:+0100
TZOFFSETTO:+0200
TZNAME:CEST
DTSTART:20250330T010000
END:DAYLIGHT
BEGIN:STANDARD
TZOFFSETFROM:+0200
TZOFFSETTO:+0100
TZNAME:CET
DTSTART:20251026T010000
END:STANDARD
END:VTIMEZONE
BEGIN:VTIMEZONE
TZID:Europe/Helsinki
BEGIN:DAYLIGHT
TZOFFSETFROM:+0200
TZOFFSETTO:+0300
TZNAME:EEST
DTSTART:20220327T010000
END:DAYLIGHT
BEGIN:STANDARD
TZOFFSETFROM:+0300
TZOFFSETTO:+0200
TZNAME:EET
DTSTART:20221030T010000
END:STANDARD
BEGIN:DAYLIGHT
TZOFFSETFROM:+0200
TZOFFSETTO:+0300
TZNAME:EEST
DTSTART:20230326T010000
END:DAYLIGHT
BEGIN:STANDARD
TZOFFSETFROM:+0300
TZOFFSETTO:+0200
TZNAME:EET
DTSTART:20231029T010000
END:STANDARD
BEGIN:DAYLIGHT
TZOFFSETFROM:+0200
TZOFFSETTO:+0300
TZNAME:EEST
DTSTART:20240331T010000
END:DAYLIGHT
BEGIN:STANDARD
TZOFFSETFROM:+0300
TZOFFSETTO:+0200
TZNAME:EET
DTSTART:20241027T010000
END:STANDARD
END:VTIMEZONE
BEGIN:VEVENT
DTSTART;TZID=Europe/Vienna:20241116T130000
DTEND;TZID=Europe/Vienna:20241117T183000
DTSTAMP:20260424T012814
CREATED:20241012T165508Z
LAST-MODIFIED:20241012T165513Z
UID:10803-1731762000-1731868200@bodysex.com
SUMMARY:Bodysex Workshop in Austria with Jessica
DESCRIPTION:Bodysex Workshop with Jessica \nDate: Nov. 16 & 17\, 2024\, 1-6:30 pm MET \nLocation: Dornbirn\, Austria \nPrice: €425 \nEmail: jess@iscarosa.com \nWebpage: https://iscarosa.com/feel/bodysex-workshops \nBodysex is a nude workshop in which women get together in a circle. In a profound experience of sisterhood\, you will step into your very own sexual power\, by connecting to your body and orgasm. \nThis two-day workshop offers a safe space to discuss body anatomy\, sexual trauma\, shame\, and – of course – orgasm. I will hold the space for you to explore how your body looks and feels. You can find out what all is in the workshop on my website https://iscarosa.com/feel/bodysex-workshops \nThis two-day workshop offers a safe space to discuss body anatomy\, sexual trauma\, shame\, and – of course – orgasm. I will hold the space for you to explore how your body looks and feels. You can find out what all is in the workshop on my website https://iscarosa.com/feel/bodysex-workshops
URL:https://bodysex.com/event/bodysex-workshop-in-austria-with-jessica/
LOCATION:Dornbirn\, Austria\, Dornbirn\, Austria
CATEGORIES:Bodysex Workshop - In-person
ATTACH;FMTTYPE=image/jpeg:https://bodysex.com/wp-content/uploads/2024/10/JessicaWorkshopNov2024.jpg
ORGANIZER;CN="Jessica Adams":MAILTO:jess@iscarosa.com
END:VEVENT
BEGIN:VEVENT
DTSTART;VALUE=DATE:20231215
DTEND;VALUE=DATE:20231217
DTSTAMP:20260424T012815
CREATED:20230629T210326Z
LAST-MODIFIED:20240304T215105Z
UID:7510-1702598400-1702771199@bodysex.com
SUMMARY:Bodysex Workshop with Jessica
DESCRIPTION:Organizer: Jessica Adams \nDate: May 18 & 19\, 2024 \nLocation: Cape Town – Allure Sensuality Emporium (Milnerton) \nPrice: R 6.500 \nEmail: jess@iscarosa.com \nWebpage: https://iscarosa.com/feel/bodysex-workshops \nDescription:  \nBodysex is a nude workshop in which women* get together in a circle. In a profound experience of sisterhood\, you will step into your very own sexual power\, by connecting to your body and orgasm. \nThis two-day workshop offers a safe space to discuss body anatomy\, sexual trauma\, shame\, and – of course – orgasm. I will hold the space for you to explore how your body looks and feels. You can find out what all is in the workshop on my website https://iscarosa.com/feel/bodysex-workshops
URL:https://bodysex.com/event/bodysex-workshop-with-jessica-4/2023-12-15/
LOCATION:Location in Capetown\, South Africa\, Capetown\, South Africa
CATEGORIES:Bodysex Workshop - In-person
ATTACH;FMTTYPE=image/jpeg:https://bodysex.com/wp-content/uploads/2023/06/Jessica-Workshop2.jpg
ORGANIZER;CN="Jessica Adams":MAILTO:jess@iscarosa.com
END:VEVENT
BEGIN:VEVENT
DTSTART;TZID=Europe/Vienna:20230819T130000
DTEND;TZID=Europe/Vienna:20230820T180000
DTSTAMP:20260424T012815
CREATED:20230629T205251Z
LAST-MODIFIED:20230629T205452Z
UID:7500-1692450000-1692554400@bodysex.com
SUMMARY:Bodysex Workshop with Jessica
DESCRIPTION:Bodysex is a nude workshop in which women get together in a circle. In a profound experience of sisterhood\, you will step into your very own sexual power\, by connecting to your body and orgasm. \nThis two-day workshop offers a safe space to discuss body anatomy\, sexual trauma\, shame\, and – of course – orgasm. I will hold the space for you to explore how your body looks and feels. You can find out what all is in the workshop on my website https://iscarosa.com/feel/bodysex-workshops
URL:https://bodysex.com/event/bodysex-workshop-with-jessica-3/2023-08-19/
LOCATION:Dornbirn\, Austria\, Dornbirn\, Austria
CATEGORIES:Bodysex Workshop - In-person
ATTACH;FMTTYPE=image/jpeg:https://bodysex.com/wp-content/uploads/2023/06/Jessica-Workshop.jpg
ORGANIZER;CN="Jessica Adams":MAILTO:jess@iscarosa.com
END:VEVENT
BEGIN:VEVENT
DTSTART;TZID=Europe/Helsinki:20230107T140000
DTEND;TZID=Europe/Helsinki:20230108T190000
DTSTAMP:20260424T012815
CREATED:20221009T192853Z
LAST-MODIFIED:20221009T192855Z
UID:5473-1673100000-1673204400@bodysex.com
SUMMARY:Bodysex Workshop with Jessica
DESCRIPTION:Bodysex is a nude workshop in which women get together in a circle. In a profound experience of sisterhood\, you will step into your very own sexual power\, by connecting to your body and orgasm. \nThis two-day workshop offers a safe space to discuss body anatomy\, sexual trauma\, shame\, and – of course – orgasm. I will hold the space for you to explore how your body looks and feels. You can find out what all is in the workshop on my website https://iscarosa.com/feel/bodysex-workshops \nOrganizer: Jessica Adams \nDate: Jan 6 & 7 2023\, 2-7 pm\, SAST \nLocation: Cape Town\, South Africa \nPrice: €375 \nEmail: jess@iscarosa.com
URL:https://bodysex.com/event/bodysex-workshop-with-jessica-2/
LOCATION:Location in Capetown\, South Africa\, Capetown\, South Africa
CATEGORIES:Bodysex Workshop - In-person
ATTACH;FMTTYPE=image/jpeg:https://bodysex.com/wp-content/uploads/2022/10/Jessica-Event.jpg
ORGANIZER;CN="Jessica Adams":MAILTO:jess@iscarosa.com
END:VEVENT
BEGIN:VEVENT
DTSTART;TZID=Europe/Vienna:20221105T140000
DTEND;TZID=Europe/Vienna:20221106T190000
DTSTAMP:20260424T012815
CREATED:20221009T191718Z
LAST-MODIFIED:20221009T192027Z
UID:5463-1667656800-1667761200@bodysex.com
SUMMARY:Bodysex Workshop with Jessica
DESCRIPTION:Bodysex is a nude workshop in which women get together in a circle. In a profound experience of sisterhood\, you will step into your very own sexual power\, by connecting to your body and orgasm. \nThis two-day workshop offers a safe space to discuss body anatomy\, sexual trauma\, shame\, and – of course – orgasm. I will hold the space for you to explore how your body looks and feels. You can find out what all is in the workshop on my website https://iscarosa.com/feel/bodysex-workshops \nOrganizer: Jessica Adams \nDate: Nov. 5 & 6\, 2022 2-7 pm MET \nLocation: Hohenems\, Austria \nPrice: €375 \nEmail: jess@iscarosa.com
URL:https://bodysex.com/event/bodysex-workshop-with-jessica/
LOCATION:Hohenems\, Austria\, Hohenems\, Austria
CATEGORIES:Bodysex Workshop - In-person
ATTACH;FMTTYPE=image/jpeg:https://bodysex.com/wp-content/uploads/2022/10/Jessica-Event.jpg
ORGANIZER;CN="Jessica Adams":MAILTO:jess@iscarosa.com
END:VEVENT
END:VCALENDAR