BEGIN:VCALENDAR
VERSION:2.0
PRODID:-//Bodysex - ECPv6.15.20//NONSGML v1.0//EN
CALSCALE:GREGORIAN
METHOD:PUBLISH
X-ORIGINAL-URL:https://bodysex.com
X-WR-CALDESC:Events for Bodysex
REFRESH-INTERVAL;VALUE=DURATION:PT1H
X-Robots-Tag:noindex
X-PUBLISHED-TTL:PT1H
BEGIN:VTIMEZONE
TZID:UTC
BEGIN:STANDARD
TZOFFSETFROM:+0000
TZOFFSETTO:+0000
TZNAME:UTC
DTSTART:20210101T000000
END:STANDARD
END:VTIMEZONE
BEGIN:VTIMEZONE
TZID:America/Winnipeg
BEGIN:DAYLIGHT
TZOFFSETFROM:-0600
TZOFFSETTO:-0500
TZNAME:CDT
DTSTART:20210314T080000
END:DAYLIGHT
BEGIN:STANDARD
TZOFFSETFROM:-0500
TZOFFSETTO:-0600
TZNAME:CST
DTSTART:20211107T070000
END:STANDARD
BEGIN:DAYLIGHT
TZOFFSETFROM:-0600
TZOFFSETTO:-0500
TZNAME:CDT
DTSTART:20220313T080000
END:DAYLIGHT
BEGIN:STANDARD
TZOFFSETFROM:-0500
TZOFFSETTO:-0600
TZNAME:CST
DTSTART:20221106T070000
END:STANDARD
BEGIN:DAYLIGHT
TZOFFSETFROM:-0600
TZOFFSETTO:-0500
TZNAME:CDT
DTSTART:20230312T080000
END:DAYLIGHT
BEGIN:STANDARD
TZOFFSETFROM:-0500
TZOFFSETTO:-0600
TZNAME:CST
DTSTART:20231105T070000
END:STANDARD
END:VTIMEZONE
BEGIN:VEVENT
DTSTART;TZID=UTC:20220918T100000
DTEND;TZID=UTC:20220919T180000
DTSTAMP:20260424T045111
CREATED:20220228T205907Z
LAST-MODIFIED:20220228T210335Z
UID:3962-1663495200-1663610400@bodysex.com
SUMMARY:Bodysex Quebec Workshop/Retreat with Natasha
DESCRIPTION:Bodysex® is a transformative and undefinable experience for women\, of all ages and sexual orientations\, interested in the empowering freedom that comes from shedding the masks\, roles and clothing that we hide behind everyday. The workshop is done in the nude yet it’s non sexual. It’s about raising consciousness\, creating sisterhood\, integrating body shame and celebrating pleasure. \nBodysex® Quebec Workshop/Retreat will be held at a private home in Drummondville\, east of Montreal. It’s the perfect place to relax\, let go and just be. These retreats have a “slumber party” feel to them with catered meals and snacks provided. During down time you may visit with the other women\, spend time alone\, journal\, read or just BE. \nThe two day workshop will include:  \n\nSacred circle where\, in first person\, we share how we feel about our bodies and our orgasms. This is the time to share any shame that has been holding us back from fully celebrating our pleasure. Through this\, the roots of sisterhood will begin forming as we accept each other for who are. No more and no less.\nGroup genital show and tell. This is a powerful ceremony where we display our vulva one at a time in front of a mirror\, identify all of the parts of our sexual anatomy and recognize the beauty and diversity amongst us. Understanding of our sexual anatomy is the foundation of sexual pleasure.\nLearning methods to enhance our orgasms and our self loving practice. How breath\, movement\, sound and our pc muscle work to enhance our pleasure on all levels.\nSelf loving\, side by side\, in the circle during “erotic recess.” Sharing our own pleasure\, without expectation\, with other women is one of the most powerful experiences that you will ever have. This is about learning to be our own lover\, integrating body shame\, letting go of sexual oppression and sharing in sisterhood. This is also an opportunity for me to help personally guide you\, towards orgasm or increased pleasure if you have never orgasmed or are having difficulty and would like help.\nGroup massage. This ancient practice is almost impossible to describe in words. It is a transcendent experience where we are able to give and receive loving\, non sexual touch from the other women in the circle.\n\n  \nRetreat Details: \nLocation: Drummondville\, Quebec (exact location will be disclosed to registered participants only) \nDates: September 18th\, 10am — September 19th\, 6pm 2021 \nCost: $495 CDN\, included in this price – rechargeable vibrator to take home (value $100). $395 Vibrator not included. Slumber party feel with potluck style meals and snacks. \n***$200 NRF deposit on registration. \nSpace is limited to 10 participants \nPlease advise me of any dietary restrictions \nRegister on my website here or email natashasalaash21@gmail.com for all enquiries.
URL:https://bodysex.com/event/bodysex-quebec-workshop-retreat-with-natasha/
LOCATION:Location in Quebec\, near Drummond\, Canada
CATEGORIES:Bodysex Workshop - In-person
ATTACH;FMTTYPE=image/jpeg:https://bodysex.com/wp-content/uploads/2022/02/Natasha-Quebec.jpg
ORGANIZER;CN="Natasha Salaash":MAILTO:natashasalaash21@gmail.com
END:VEVENT
BEGIN:VEVENT
DTSTART;VALUE=DATE:20220429
DTEND;VALUE=DATE:20220502
DTSTAMP:20260424T045111
CREATED:20220211T203252Z
LAST-MODIFIED:20220228T205133Z
UID:3581-1651190400-1651449599@bodysex.com
SUMMARY:Bodysex Workshop and Retreat with Natasha
DESCRIPTION:Bodysex® is a transformative and undefinable weekend long sex focused immersion for women\, of all ages and sexual orientations\, interested in the empowering freedom that comes from shedding the masks\, roles and clothing that we hide behind everyday. This sex positive\, nude workshop centers on body acceptance\, letting go of shame\, collective consciousness raising\, creating sisterhood and celebrating self pleasure. Bodysex® is led by Natasha Salaash\, who is trained as a Betty Dodson® certified Bodysex® facilitator\, Trauma Informed Practitioner\, Sex and Intimacy Counsellor\, Breath worker and Sexual assault Crisis line support worker. Her approach is present\, grounded\, skilled\, practical and vulnerable as she not only holds space for the participants but is also a participant herself. Natasha’s style of facilitation is guided by her belief in the healing power of shared vulnerability and\, with this as her principle\, will not invite anyone to be vulnerable in a way that she is unwilling to go herself. \nSaskatoon Bodysex® Retreats are held at a private retreat centre near Saskatoon SK. Canada. It’s the perfect place to relax\, be taken care of and just be. Participants are fed healthy home made meals lovingly prepared and catered to all dietary restrictions and preferences by Tempest of AuroraStar Health.  Natasha’s assistant and extremely talented Henna artist Justine Lustig travels all the way from British Columbia to adorn each participants’ body with a henna design of their choosing. The Betty Dodson® certified workshop consists of 5 hours of structured activity each day plus an integration circle on the final morning. The rest of the time\, participants are welcome to walk trails along the south Saskatchewan river\, spend time alone\, read books from Natasha’s sex library\, masturbate or talk/ask questions about all topics pertaining to sex\, love intimacy and more with Natasha and the other participants. \nThe two day workshop will include:  \n\nSacred circle where\, in first person\, we share how we feel about our bodies and our orgasms. This is the time to leave in the circle any shame that has been holding us back from fully celebrating our pleasure.  Through this\, the roots of sisterhood will begin forming as we accept each other for who we are. No more and no less.\nGroup genital show and tell. This is a powerful and sacred ceremony where\, with Natasha’s guidance and support\, we display our vulva one at a time\, identify all of the parts of our sexual anatomy and recognize the beauty and diversity amongst us. Each vulva is named and welcomed by all the women in the circle.\nLearn new methods to enhance our orgasms and our self loving practice. Understanding our sexual anatomy\, how breath\, movement\, sound and our pc muscle work to enhance our pleasure on all levels. Teaching of the “window of tolerance” and how it creates a framework for our intimacy and how to transform it into a tool of self awareness and self-regulation to create the pleasure and intimacy that we desire. Participants will also learn tools to “come back to their body” during pleasure when our heads can mess things up.\nGuided touch meditation and self loving\, side by side\, in the circle during “erotic recess.” Sharing our own pleasure\, without expectation\, with other women can be one of the most powerful experiences that you will ever have. This is about learning to be our own lover\, healing body shame\, overcoming sexual guilt and sharing in sisterhood. This is also an opportunity for me to help support you\, towards orgasm or increased pleasure if you have never orgasmed or are having difficulty and would like help.\n Group massage. This ancient practice is almost impossible to describe in words. It is a transcendent experience where we are able to give and receive loving\, non sexual touch from the other women in the circle.\n\nRetreat Details: \nLocation: Retreat centre outside Saskatoon SK. Canada of which the exact location will be disclosed to registered participants only. (transportation to and from Saskatoon to the retreat can be provided if needed) \nDates: 1pm on April 29th 2022 – 1pm on May 1st 2022. \nCost: $650 CDN. Participants are welcome to bring their own vibrator (BYOV)\, use their hands or purchase one from Natasha. Included in this fee is the full Bodysex® workshop\, meals catered to all dietary restrictions by AuroraStar Health\, henna tattoo by Studio Stiina\, healthy snacks\, private and/or shared accommodation for 2 nights. \n$300 NRF deposit on registration. Payment plans are welcome – contact Natasha to create payment schedule. \nSpace is limited to 10 participants and the retreat will be held twice a year only — once in Spring and once in early Winter \nRegister: on website here or email natashasalaash21@gmail.com for all enquiries.
URL:https://bodysex.com/event/bodysex-workshop-and-retreat/2022-04-29/
LOCATION:Retreat Centre\, Saskatoon\, SK\, Canada
CATEGORIES:Bodysex Workshop - In-person
ATTACH;FMTTYPE=image/jpeg:https://bodysex.com/wp-content/uploads/2022/02/Natasha-Bodysex-e1644596453924.jpg
ORGANIZER;CN="Natasha Salaash":MAILTO:natashasalaash21@gmail.com
END:VEVENT
END:VCALENDAR