BEGIN:VCALENDAR
VERSION:2.0
PRODID:-//Bodysex - ECPv6.15.20//NONSGML v1.0//EN
CALSCALE:GREGORIAN
METHOD:PUBLISH
X-ORIGINAL-URL:https://bodysex.com
X-WR-CALDESC:Events for Bodysex
REFRESH-INTERVAL;VALUE=DURATION:PT1H
X-Robots-Tag:noindex
X-PUBLISHED-TTL:PT1H
BEGIN:VTIMEZONE
TZID:Europe/Berlin
BEGIN:DAYLIGHT
TZOFFSETFROM:+0100
TZOFFSETTO:+0200
TZNAME:CEST
DTSTART:20210328T010000
END:DAYLIGHT
BEGIN:STANDARD
TZOFFSETFROM:+0200
TZOFFSETTO:+0100
TZNAME:CET
DTSTART:20211031T010000
END:STANDARD
BEGIN:DAYLIGHT
TZOFFSETFROM:+0100
TZOFFSETTO:+0200
TZNAME:CEST
DTSTART:20220327T010000
END:DAYLIGHT
BEGIN:STANDARD
TZOFFSETFROM:+0200
TZOFFSETTO:+0100
TZNAME:CET
DTSTART:20221030T010000
END:STANDARD
BEGIN:DAYLIGHT
TZOFFSETFROM:+0100
TZOFFSETTO:+0200
TZNAME:CEST
DTSTART:20230326T010000
END:DAYLIGHT
BEGIN:STANDARD
TZOFFSETFROM:+0200
TZOFFSETTO:+0100
TZNAME:CET
DTSTART:20231029T010000
END:STANDARD
BEGIN:DAYLIGHT
TZOFFSETFROM:+0100
TZOFFSETTO:+0200
TZNAME:CEST
DTSTART:20240331T010000
END:DAYLIGHT
BEGIN:STANDARD
TZOFFSETFROM:+0200
TZOFFSETTO:+0100
TZNAME:CET
DTSTART:20241027T010000
END:STANDARD
BEGIN:DAYLIGHT
TZOFFSETFROM:+0100
TZOFFSETTO:+0200
TZNAME:CEST
DTSTART:20250330T010000
END:DAYLIGHT
BEGIN:STANDARD
TZOFFSETFROM:+0200
TZOFFSETTO:+0100
TZNAME:CET
DTSTART:20251026T010000
END:STANDARD
BEGIN:DAYLIGHT
TZOFFSETFROM:+0100
TZOFFSETTO:+0200
TZNAME:CEST
DTSTART:20260329T010000
END:DAYLIGHT
BEGIN:STANDARD
TZOFFSETFROM:+0200
TZOFFSETTO:+0100
TZNAME:CET
DTSTART:20261025T010000
END:STANDARD
END:VTIMEZONE
BEGIN:VEVENT
DTSTART;VALUE=DATE:20250828
DTEND;VALUE=DATE:20250831
DTSTAMP:20260424T081026
CREATED:20240719T172628Z
LAST-MODIFIED:20240719T172628Z
UID:14143-1756339200-1756598399@bodysex.com
SUMMARY:Bodysex Workshop in Germany with Céline
DESCRIPTION:Bodysex® Workshop with Céline Manon  \nDate: 28th August to 30th August 2025 \nLocation: Traunstein\, Bavaria\, Germany \nOrganizer: Céline Manon \nPrice: 500 Euro \nCategory: Bodysex Workshop – In-person \nWebsite: in German \n\n \n\nCéline’s Bodysex® Workshop for women\, goes beyond conventional wellness experiences. I offer Betty Dodsons transformative Bodysex®️ method that combines expert education on female anatomy\, self-love practices\, and intimate sharing circles.  \nWhat sets me apart is my commitment to creating a safer and sacred space where women can explore their bodies\, embrace their sensuality\, and cultivate a deeper connection with themselves in small groups (10 women).  \nJoin me on a journey of liberation\, where empowerment meets pleasure\, and self-love becomes a profound and transformative experience. \nWhat’s included  \n\nConnection. Get to know each other Zoom Call on the 24th of August (8:30 pm CET).\n\n\nSensual. 5 course vegan Dinner prepared for you by a private Chef on the first evening. During the Workshop all Snacks are vegan and prepared by the same Chef.\n\n\nExperienced Teacher.I am a qualified teacher and facilitator\, providing a safer\, consensual and mindful space.\n\n\nIntimate. 2 Days filled with Bodysex® Sessions in a group of max. 10 women in my own Workshop space. We are completely undisturbed.\n\n\nIntegration. Included are 2 online sessions\, one before and one after the Workshop\, to dive into answering your questions\, connecting the group and building a supportive community of sisterhood.\n\n			\n				More Information
URL:https://bodysex.com/event/bodysex-workshop-in-germany-with-celine/2025-08-28/
LOCATION:Celine’s Studio\, Traunstein\, Bavaria\, Germany
CATEGORIES:Bodysex Workshop - In-person
ATTACH;FMTTYPE=image/jpeg:https://bodysex.com/wp-content/uploads/2024/07/Memamo_2022__20-scaled.jpg
ORGANIZER;CN="C%C3%A9line Manon":MAILTO:memamo.coaching@gmail.com
END:VEVENT
BEGIN:VEVENT
DTSTART;VALUE=DATE:20250130
DTEND;VALUE=DATE:20250202
DTSTAMP:20260424T081026
CREATED:20240719T172628Z
LAST-MODIFIED:20240719T172628Z
UID:14142-1738195200-1738454399@bodysex.com
SUMMARY:Bodysex Workshop in Germany with Céline
DESCRIPTION:Bodysex® Workshop with Céline Manon  \nDate: 28th August to 30th August 2025 \nLocation: Traunstein\, Bavaria\, Germany \nOrganizer: Céline Manon \nPrice: 500 Euro \nCategory: Bodysex Workshop – In-person \nWebsite: in German \n\n \n\nCéline’s Bodysex® Workshop for women\, goes beyond conventional wellness experiences. I offer Betty Dodsons transformative Bodysex®️ method that combines expert education on female anatomy\, self-love practices\, and intimate sharing circles.  \nWhat sets me apart is my commitment to creating a safer and sacred space where women can explore their bodies\, embrace their sensuality\, and cultivate a deeper connection with themselves in small groups (10 women).  \nJoin me on a journey of liberation\, where empowerment meets pleasure\, and self-love becomes a profound and transformative experience. \nWhat’s included  \n\nConnection. Get to know each other Zoom Call on the 24th of August (8:30 pm CET).\n\n\nSensual. 5 course vegan Dinner prepared for you by a private Chef on the first evening. During the Workshop all Snacks are vegan and prepared by the same Chef.\n\n\nExperienced Teacher.I am a qualified teacher and facilitator\, providing a safer\, consensual and mindful space.\n\n\nIntimate. 2 Days filled with Bodysex® Sessions in a group of max. 10 women in my own Workshop space. We are completely undisturbed.\n\n\nIntegration. Included are 2 online sessions\, one before and one after the Workshop\, to dive into answering your questions\, connecting the group and building a supportive community of sisterhood.\n\n			\n				More Information
URL:https://bodysex.com/event/bodysex-workshop-in-germany-with-celine/2025-01-30/
LOCATION:Celine’s Studio\, Traunstein\, Bavaria\, Germany
CATEGORIES:Bodysex Workshop - In-person
ATTACH;FMTTYPE=image/jpeg:https://bodysex.com/wp-content/uploads/2024/07/Memamo_2022__20-scaled.jpg
ORGANIZER;CN="C%C3%A9line Manon":MAILTO:memamo.coaching@gmail.com
END:VEVENT
BEGIN:VEVENT
DTSTART;VALUE=DATE:20240829
DTEND;VALUE=DATE:20240901
DTSTAMP:20260424T081026
CREATED:20240719T172628Z
LAST-MODIFIED:20250705T152424Z
UID:10259-1724889600-1725148799@bodysex.com
SUMMARY:Bodysex Workshop in Germany with Céline
DESCRIPTION:Bodysex® Workshop with Céline Manon  \nDate: 28th August to 30th August 2025 \nLocation: Traunstein\, Bavaria\, Germany \nOrganizer: Céline Manon \nPrice: 500 Euro \nCategory: Bodysex Workshop – In-person \nWebsite: in German \n\n \n\nCéline’s Bodysex® Workshop for women\, goes beyond conventional wellness experiences. I offer Betty Dodsons transformative Bodysex®️ method that combines expert education on female anatomy\, self-love practices\, and intimate sharing circles.  \nWhat sets me apart is my commitment to creating a safer and sacred space where women can explore their bodies\, embrace their sensuality\, and cultivate a deeper connection with themselves in small groups (10 women).  \nJoin me on a journey of liberation\, where empowerment meets pleasure\, and self-love becomes a profound and transformative experience. \nWhat’s included  \n\nConnection. Get to know each other Zoom Call on the 24th of August (8:30 pm CET).\n\n\nSensual. 5 course vegan Dinner prepared for you by a private Chef on the first evening. During the Workshop all Snacks are vegan and prepared by the same Chef.\n\n\nExperienced Teacher.I am a qualified teacher and facilitator\, providing a safer\, consensual and mindful space.\n\n\nIntimate. 2 Days filled with Bodysex® Sessions in a group of max. 10 women in my own Workshop space. We are completely undisturbed.\n\n\nIntegration. Included are 2 online sessions\, one before and one after the Workshop\, to dive into answering your questions\, connecting the group and building a supportive community of sisterhood.\n\n			\n				More Information
URL:https://bodysex.com/event/bodysex-workshop-in-germany-with-celine/2024-08-29/
LOCATION:Celine’s Studio\, Traunstein\, Bavaria\, Germany
CATEGORIES:Bodysex Workshop - In-person
ATTACH;FMTTYPE=image/jpeg:https://bodysex.com/wp-content/uploads/2024/07/Memamo_2022__20-scaled.jpg
ORGANIZER;CN="C%C3%A9line Manon":MAILTO:memamo.coaching@gmail.com
END:VEVENT
BEGIN:VEVENT
DTSTART;VALUE=DATE:20220409
DTEND;VALUE=DATE:20220411
DTSTAMP:20260424T081026
CREATED:20220202T010841Z
LAST-MODIFIED:20220228T214544Z
UID:3263-1649462400-1649635199@bodysex.com
SUMMARY:Bodysex Workshop w/Celine and Beatrice
DESCRIPTION:Our Bodysex course takes place over 2 afternoons \, with our instructors Céline Manon and Beatrice Bast \, who will support you in making a deeper connection to your body\, overcoming shame and deepening your experience of pleasure. \nThe course days are always on a Saturday and Sunday\, from 1 p.m. to 6 p.m. \nThis course takes place in Germany in Céline’s workshop rooms in Chiemgau. You will receive the exact address after your registration. \n\nOur preliminary check\n\n\n\nFirst of all\, we want to clarify whether this course is really right for you. Please answer the following questions spontaneously and honestly. \n✓ Are you ready to explore yourself as a sexual being while feeling connection and ease? \n✓ Are you readyto learn more about your female anatomy together with 10 other women\, your Bodysex Sisters? \n✓ Are you ready to accept recognition and appreciation from your Bodysex Sisters for you and your body? \n✓ Are you ready to experiment with new masturbation techniques to give you more sexual pleasure?If you impulsively answered “yes” to any of these questions\, then you’ve come to the right place. Get in touch and we can arrange a non-binding and free consultation!
URL:https://bodysex.com/event/bodysex-workshop-w-celine-and-beatrice/2022-04-09/
LOCATION:Celine’s Studio\, Traunstein\, Bavaria\, Germany
CATEGORIES:Bodysex Workshop - In-person
ATTACH;FMTTYPE=image/jpeg:https://bodysex.com/wp-content/uploads/2022/02/Memamo-Coaching_Blog_Bodysex_Celine-Manon_Orgasmus_diversity-700x300-1.jpg
ORGANIZER;CN="Memamo Coaching":MAILTO:info@memamo-coaching.com
END:VEVENT
END:VCALENDAR