BEGIN:VCALENDAR
VERSION:2.0
PRODID:-//Bodysex - ECPv6.15.20//NONSGML v1.0//EN
CALSCALE:GREGORIAN
METHOD:PUBLISH
X-WR-CALNAME:Bodysex
X-ORIGINAL-URL:https://bodysex.com
X-WR-CALDESC:Events for Bodysex
REFRESH-INTERVAL;VALUE=DURATION:PT1H
X-Robots-Tag:noindex
X-PUBLISHED-TTL:PT1H
BEGIN:VTIMEZONE
TZID:America/New_York
BEGIN:DAYLIGHT
TZOFFSETFROM:-0500
TZOFFSETTO:-0400
TZNAME:EDT
DTSTART:20220313T070000
END:DAYLIGHT
BEGIN:STANDARD
TZOFFSETFROM:-0400
TZOFFSETTO:-0500
TZNAME:EST
DTSTART:20221106T060000
END:STANDARD
BEGIN:DAYLIGHT
TZOFFSETFROM:-0500
TZOFFSETTO:-0400
TZNAME:EDT
DTSTART:20230312T070000
END:DAYLIGHT
BEGIN:STANDARD
TZOFFSETFROM:-0400
TZOFFSETTO:-0500
TZNAME:EST
DTSTART:20231105T060000
END:STANDARD
BEGIN:DAYLIGHT
TZOFFSETFROM:-0500
TZOFFSETTO:-0400
TZNAME:EDT
DTSTART:20240310T070000
END:DAYLIGHT
BEGIN:STANDARD
TZOFFSETFROM:-0400
TZOFFSETTO:-0500
TZNAME:EST
DTSTART:20241103T060000
END:STANDARD
END:VTIMEZONE
BEGIN:VEVENT
DTSTART;TZID=America/New_York:20231104T093000
DTEND;TZID=America/New_York:20231105T160000
DTSTAMP:20260424T012858
CREATED:20230329T192827Z
LAST-MODIFIED:20230329T193031Z
UID:6980-1699090200-1699200000@bodysex.com
SUMMARY:Bodysex Workshop with Kristy
DESCRIPTION:Bodysex® is a pleasure-centered\, experiential workshop where participants explore their relationships with their body and their orgasm. One of the main things we focus on first in both the group workshop and my one-on-one coaching is connecting with your body (without any toys). Our bodies have a huge capacity for pleasure in many ways beyond our genitals\, despite the messaging we are often fed from the media. We explore our relationships with our bodies as well as our sexuality\, and I provide education about our anatomy. We talk a lot about barriers to orgasm\, specifically the role that our minds play in inhibiting our ability to get “in the mood” and how long it actually takes to become aroused.  \nThe two-day workshop is based on Betty Dodson’s workshop format\, which includes the following rituals:  \n– Body Appreciation  \n– Rock-n-Roll Demo \n– Erotic Recess \n– Group Massage \nIn addition\, we also explore sexual fantasies\, experience a guided self-touch meditation\, and incorporate body movement.  \nThis group workshop is open to women\, transgender\, nonbinary\, and gender-expansive individuals.  \nThis in-person event is scheduled for Saturday & Sunday\, November 4-5\, from 9:30 a.m. – 4:00 p.m. Eastern on both days. The location is Durham\, North Carolina\, USA. The two-day workshop costs $597 and a non-refundable deposit of $200 is required to secure your spot. \nReserve your spot today by visiting: https://pathwaystopleasure.com/service-selection/p/in-person-bodysex-workshop \nAll participants are required to provide proof of a negative Covid-19 test on the morning of Day 1. With this policy in place\, masks are not required during our time together (masks are optional). I will update if anything changes regarding the Covid-19 policy.
URL:https://bodysex.com/event/bodysex-workshop-with-kristy-4/
LOCATION:Location in Durham\, NC\, Durham\, NC
CATEGORIES:Bodysex Workshop - In-person
ATTACH;FMTTYPE=image/png:https://bodysex.com/wp-content/uploads/2022/07/Kristy-Circle.png
ORGANIZER;CN="Kristy Lowther":MAILTO:pathways2pleasure@gmail.com
END:VEVENT
BEGIN:VEVENT
DTSTART;TZID=America/New_York:20230722T093000
DTEND;TZID=America/New_York:20230723T160000
DTSTAMP:20260424T012858
CREATED:20230329T191208Z
LAST-MODIFIED:20230329T191257Z
UID:6975-1690018200-1690128000@bodysex.com
SUMMARY:Bodysex Workshop with Kristy
DESCRIPTION:Bodysex® is a pleasure-centered\, experiential workshop where participants explore their relationships with their body and their orgasm. One of the main things we focus on first in both the group workshop and my one-on-one coaching is connecting with your body (without any toys). Our bodies have a huge capacity for pleasure in many ways beyond our genitals\, despite the messaging we are often fed from the media. We explore our relationships with our bodies as well as our sexuality\, and I provide education about our anatomy. We talk a lot about barriers to orgasm\, specifically the role that our minds play in inhibiting our ability to get “in the mood” and how long it actually takes to become aroused.  \nThe two-day workshop is based on Betty Dodson’s workshop format\, which includes the following rituals:  \n– Body Appreciation  \n– Rock-n-Roll Demo \n– Erotic Recess \n– Group Massage \nIn addition\, we also explore sexual fantasies\, experience a guided self-touch meditation\, and incorporate body movement.  \nThis group workshop is open to women\, transgender\, nonbinary\, and gender-expansive individuals.  \nThis in-person event is scheduled for Saturday & Sunday\, July 22-23\, from 9:30 a.m. – 4:00 p.m. Eastern on both days. The location is Durham\, North Carolina\, USA. The two-day workshop costs $597 and a non-refundable deposit of $200 is required to secure your spot. \nReserve your spot today by visiting: https://pathwaystopleasure.com/service-selection/p/in-person-bodysex-workshop \nAll participants are required to provide proof of a negative Covid-19 test on the morning of Day 1. With this policy in place\, masks are not required during our time together (masks are optional). I will update if anything changes regarding the Covid-19 policy.
URL:https://bodysex.com/event/bodysex-workshop-with-kristy-3/
LOCATION:Location in Durham\, NC\, Durham\, NC
CATEGORIES:Bodysex Workshop - In-person
ATTACH;FMTTYPE=image/png:https://bodysex.com/wp-content/uploads/2022/07/Kristy-Circle.png
ORGANIZER;CN="Kristy Lowther":MAILTO:pathways2pleasure@gmail.com
END:VEVENT
END:VCALENDAR