BEGIN:VCALENDAR
VERSION:2.0
PRODID:-//Bodysex - ECPv6.15.20//NONSGML v1.0//EN
CALSCALE:GREGORIAN
METHOD:PUBLISH
X-ORIGINAL-URL:https://bodysex.com
X-WR-CALDESC:Events for Bodysex
REFRESH-INTERVAL;VALUE=DURATION:PT1H
X-Robots-Tag:noindex
X-PUBLISHED-TTL:PT1H
BEGIN:VTIMEZONE
TZID:UTC
BEGIN:STANDARD
TZOFFSETFROM:+0000
TZOFFSETTO:+0000
TZNAME:UTC
DTSTART:20220101T000000
END:STANDARD
END:VTIMEZONE
BEGIN:VTIMEZONE
TZID:Europe/Berlin
BEGIN:DAYLIGHT
TZOFFSETFROM:+0100
TZOFFSETTO:+0200
TZNAME:CEST
DTSTART:20220327T010000
END:DAYLIGHT
BEGIN:STANDARD
TZOFFSETFROM:+0200
TZOFFSETTO:+0100
TZNAME:CET
DTSTART:20221030T010000
END:STANDARD
BEGIN:DAYLIGHT
TZOFFSETFROM:+0100
TZOFFSETTO:+0200
TZNAME:CEST
DTSTART:20230326T010000
END:DAYLIGHT
BEGIN:STANDARD
TZOFFSETFROM:+0200
TZOFFSETTO:+0100
TZNAME:CET
DTSTART:20231029T010000
END:STANDARD
BEGIN:DAYLIGHT
TZOFFSETFROM:+0100
TZOFFSETTO:+0200
TZNAME:CEST
DTSTART:20240331T010000
END:DAYLIGHT
BEGIN:STANDARD
TZOFFSETFROM:+0200
TZOFFSETTO:+0100
TZNAME:CET
DTSTART:20241027T010000
END:STANDARD
END:VTIMEZONE
BEGIN:VEVENT
DTSTART;TZID=UTC:20230824T190000
DTEND;TZID=UTC:20230827T180000
DTSTAMP:20260424T012920
CREATED:20230727T183909Z
LAST-MODIFIED:20230727T184759Z
UID:7641-1692903600-1693159200@bodysex.com
SUMMARY:Pleasure Retreat in Germany with Céline & Anna
DESCRIPTION:Anna's Website\n			\n			\n				\n				\n				\n				\n				\n				Céline's Website\n			\n			\n				\n				\n				\n				\n			\n				\n				\n				\n				\n				\n				\n				\n				\n				\n				\n				Thursday\, 24.08.2023 at 7pm – Saturday 26.08.23 at 6pm \n\nAt our Women‘s Pleasure Retreat we hold space for the exploration of pleasure through sharing the Bodysex® method designed by Betty Dodson PHD. The Bodysex® method includes sharing circles and self-love rituals\, self-touch\, massaging the body. \nTogether we  create a community that celebrates the pleasures of life. You are  welcome into this circle of pleasure seekers\, if you are a vulva-owner  and identify as a woman or non-binary. We will do our best that everyone  feels welcome\, safe and supported. You are welcome no matter your sex  at birth\, age\, sexual orientation\, race\, or country of origin. \nAlthough we don’t offer accommodation for overnight stays as part of this retreat\,\n there are some beautiful locations to stay\, on our doorstep\, whether you’re looking for a boutique B&B\, hotel or campsite\, there’s something to suit all budgets.\nGet in touch and we’ll send you a list of our recommended and favourite places. \nWhat‘s included: \n1x Vegan Pick-Nick Dinner \nThe Bodysex® sessions \n1x 200ml  Sweet almond oil \nNourishing Vegan Snacks \nAll day: Tea\, Coffee\, Water \nChocolate\, Fruits & Nuts \n\n \nLocation:\nMemamo House\nTraunstein\, Bavaria\, Germany\n\nThe retreat is located in the idyllic area of the Chiemgau\, embedded in culture and the wonderful scenic beauty of the Chiemsee from which the pre-Alps protrude. Far away from the hustle and bustle of everyday life you will have the experience of the workshops\, in the relaxed and recreational ambience of the Memamo House. \n\n \nWebpage:\nwww.memamo-coaching.com\nwww.annascheer.com\n \nEarly Bird Price until 08.08.2023: 666€\nRegular Price: 888€\n \nNo accomodation included in the price
URL:https://bodysex.com/event/pleasure-retreat-with-celine-and-anna-in-bavaria-germany/
LOCATION:Memamo Home\, Traunstein\, Germany
CATEGORIES:Bodysex Workshop - In-person,Retreat - In-person
ATTACH;FMTTYPE=image/jpeg:https://bodysex.com/wp-content/uploads/2023/07/CelineAnnaVibe.jpeg
ORGANIZER;CN="C%C3%A9line Manon":MAILTO:memamo.coaching@gmail.com
END:VEVENT
BEGIN:VEVENT
DTSTART;VALUE=DATE:20230413
DTEND;VALUE=DATE:20230417
DTSTAMP:20260424T012920
CREATED:20230219T195712Z
LAST-MODIFIED:20230304T210030Z
UID:6618-1681344000-1681689599@bodysex.com
SUMMARY:Women's Pleasure Retreat with Anna and Céline
DESCRIPTION:13-16 April 2023 in Traunstein\, Germany\nwith Anna Scheer & Céline Manon\n			\n			\n				\n				\n				\n				\n			\n				\n				\n				\n				\n				\n				\n				Anna's Event Page (English)\n			\n			\n				\n				\n				\n				\n				\n				Céline's Event Page (German)\n			\n			\n				\n				\n				\n				\n			\n				\n				\n				\n				\n				\n				\n				\n				\n				\n				\n				Do you want to step into your sexual power and open up to an orgasmic and fulfilled life? Come and join us for our Women’s Pleasure Retreats in 2023! You will experience the Bodysex® method created by Dr. Betty Dodson®. \n\nWe explore pleasure through self-love\, touch\, art\, food and nature. Together we create a community that celebrates the pleasures of life. You are welcome into this circle of pleasure seekers\, if you are a vulva-owner and identify as a woman or non-binary. We will do our best that everyone feels welcome\, safe and supported. You are welcome no matter your sex at birth\, age\, sexual orientation\, race\, or country of origin. \n\n \nDetails:\n\n4 days retreat with a stay at the QC Quartier Chiemsee Hotel \n\n\nThe Bodysex®️ workshop and the food prepared by the vegan Chef Pink Deli:790 € \nThe accommodation is:375 € for a room with balcony345 € for a room without balcony \nMakes a total of:1132 € for the Bodysex®️ Workshop + Food + accommodation1162 € for the room with balcony \n\n \nIncluded in the price:\nThe Bodysex® sessions\nVegan catering by Pink Deli\nSensual Almond Oil\n \nYour Benefits:\n\nConnect to your authentic sexual nature and discover what feels best to you\nRe-discover your body after feeling disconnected and numb\nFind pleasure in your life through embodied self-love practices\nRefresh your spiritual and emotional well-being\nThe ideal location to unplug and enjoy the beauty of nature\nA place where you can feel safe and take care for your personal growth\n\nLocation: \nGoogle Maps Link \nImmerse yourself in an orgasmic and transformative experience in the scenic beauty of Lake Chiemsee.It is the second largest lake in Germany and is rightly called the ‚Bavarian Sea‘. \nFar away from the hustle and bustle of everyday life\, you will experience 3 nights and 4 days of peace\, relaxation\, and recreation at the hotel QC Quatier Chiemsee and at the beautiful workshop space at our Memamo Home. \nImagine a landscape that was formed by glaciers. \n\nNatural forces created the lakes\, rivers\, lush green hills and valleys of the Chiemgau.Situated right between Munich and Salzburg our retreat center is easily accessible and yet immersed in the pristine prealpine lands.The lakeside hotel in Seebruck is a place of relaxation and recreation. \nYour Friday evening will be free so you can enjoy the lake and a delicious dinner (fees not included). \n\n 
URL:https://bodysex.com/event/womens-pleasure-retreat-with-anna-and-celine-2/
LOCATION:Memamo Home\, Traunstein\, Germany
CATEGORIES:Bodysex Workshop - In-person,Retreat - In-person
ATTACH;FMTTYPE=image/jpeg:https://bodysex.com/wp-content/uploads/2023/02/17.Memamo-Coaching_Event_Sisterhood_Womens-Pleasure-Retreat-Teneriffa-Bodysexjpg.jpg
ORGANIZER;CN="C%C3%A9line Manon":MAILTO:memamo.coaching@gmail.com
END:VEVENT
END:VCALENDAR