BEGIN:VCALENDAR
VERSION:2.0
PRODID:-//Bodysex - ECPv6.15.20//NONSGML v1.0//EN
CALSCALE:GREGORIAN
METHOD:PUBLISH
X-WR-CALNAME:Bodysex
X-ORIGINAL-URL:https://bodysex.com
X-WR-CALDESC:Events for Bodysex
REFRESH-INTERVAL;VALUE=DURATION:PT1H
X-Robots-Tag:noindex
X-PUBLISHED-TTL:PT1H
BEGIN:VTIMEZONE
TZID:America/Mexico_City
BEGIN:DAYLIGHT
TZOFFSETFROM:-0600
TZOFFSETTO:-0500
TZNAME:CDT
DTSTART:20210404T080000
END:DAYLIGHT
BEGIN:STANDARD
TZOFFSETFROM:-0500
TZOFFSETTO:-0600
TZNAME:CST
DTSTART:20211031T070000
END:STANDARD
BEGIN:DAYLIGHT
TZOFFSETFROM:-0600
TZOFFSETTO:-0500
TZNAME:CDT
DTSTART:20220403T080000
END:DAYLIGHT
BEGIN:STANDARD
TZOFFSETFROM:-0500
TZOFFSETTO:-0600
TZNAME:CST
DTSTART:20221030T070000
END:STANDARD
END:VTIMEZONE
BEGIN:VEVENT
DTSTART;VALUE=DATE:20220602
DTEND;VALUE=DATE:20220607
DTSTAMP:20260424T064148
CREATED:20220513T195231Z
LAST-MODIFIED:20220513T200027Z
UID:4623-1654128000-1654559999@bodysex.com
SUMMARY:Bodysex-Based Yumm Retreat with Simone
DESCRIPTION:Ready to step into your Pleasure? Reclaim the power of the Feminine!\nGet the love & sex you want.\nIf you are craving something deeper\, ready to step into and activate the power of you\, and just want to get away and be nourished this is it.  \nThis will be an intimate and special opportunity for connection\, healing\, growth\, rejuvenation\, and life long connections.  \nPlus…you’ll experience Temazcal\, jungle hikes\, private beach\, surfing\, horse rides\, self care and massage\, yoni steams\, + more. \nWhat Will We Be Doing in the Retreat Workshop ?\n\n\nThe Gift of sitting with women in a sacred circle and learning\, sharing stories and experiences is worth so much in even a short amount of time\, we come back to our softness our laugher\, our miraculous bodies In this safe container softness\, creativity\, release and the magnitude of the feminine heart is honored. Powerful practices to release the shadows\, shame\, and past experiences that have blocked you from experiencing your full pleasure potential \n\n\nWhen you master the skills of your Pleasure you are empowered to get the pleasure you deserve inside and outside the bedroom. This is a BodySex based workshop\, this means we will be sitting in a circle together\, nude\, we will be learning about our pleasure anatomy\, we will be practicing feminine rituals such as genital show and share\, Vulva mapping\, and Practicing in Erotic Recess the Rock and Roll Technique to Enhance Orgasm and Stregthen your Pelvic Floor. This is an opportunity to demystify your Orgasm- learn what you may have not been taught before\, and get a hands on experience to know and claim what your body has to offer\, in safe and supportive container\, amongst sisters. \n\n\nWhat You Will Walk Away with After This Workshop: \n\n\nA vibrant and intentional sexual relationship with yourself \n\n\nAbility to feel and communicate your feelings\, desires\, needs\, and boundaries \n\n\nAbility to communicate what you are actually drawn to\, to listen to your body\, to honor the wisdom of your body and what she is communicating with you \n\n\nRelease any guilt of letting others down or people pleasing habits and harness what agency it is to be unapologetically you \n\n\nThe confidence to be at home in your body with yourself and in partnership \n\n\nRekindle the desire of your body\, mind and spirit
URL:https://bodysex.com/event/bodysex-based-yumm-retreat-with-simone/
LOCATION:Sayulita Mexico Resort\, Mexico
CATEGORIES:Retreat - In-person
ATTACH;FMTTYPE=image/png:https://bodysex.com/wp-content/uploads/2022/05/Simone-YummRetreat47-e1652744230606.png
ORGANIZER;CN="Simone Farschi":MAILTO:Simone@thepleasureplus.com
END:VEVENT
END:VCALENDAR