BEGIN:VCALENDAR
VERSION:2.0
PRODID:-//Bodysex - ECPv6.15.20//NONSGML v1.0//EN
CALSCALE:GREGORIAN
METHOD:PUBLISH
X-ORIGINAL-URL:https://bodysex.com
X-WR-CALDESC:Events for Bodysex
REFRESH-INTERVAL;VALUE=DURATION:PT1H
X-Robots-Tag:noindex
X-PUBLISHED-TTL:PT1H
BEGIN:VTIMEZONE
TZID:America/New_York
BEGIN:DAYLIGHT
TZOFFSETFROM:-0500
TZOFFSETTO:-0400
TZNAME:EDT
DTSTART:20210314T070000
END:DAYLIGHT
BEGIN:STANDARD
TZOFFSETFROM:-0400
TZOFFSETTO:-0500
TZNAME:EST
DTSTART:20211107T060000
END:STANDARD
BEGIN:DAYLIGHT
TZOFFSETFROM:-0500
TZOFFSETTO:-0400
TZNAME:EDT
DTSTART:20220313T070000
END:DAYLIGHT
BEGIN:STANDARD
TZOFFSETFROM:-0400
TZOFFSETTO:-0500
TZNAME:EST
DTSTART:20221106T060000
END:STANDARD
BEGIN:DAYLIGHT
TZOFFSETFROM:-0500
TZOFFSETTO:-0400
TZNAME:EDT
DTSTART:20230312T070000
END:DAYLIGHT
BEGIN:STANDARD
TZOFFSETFROM:-0400
TZOFFSETTO:-0500
TZNAME:EST
DTSTART:20231105T060000
END:STANDARD
END:VTIMEZONE
BEGIN:VTIMEZONE
TZID:Europe/Berlin
BEGIN:DAYLIGHT
TZOFFSETFROM:+0100
TZOFFSETTO:+0200
TZNAME:CEST
DTSTART:20210328T010000
END:DAYLIGHT
BEGIN:STANDARD
TZOFFSETFROM:+0200
TZOFFSETTO:+0100
TZNAME:CET
DTSTART:20211031T010000
END:STANDARD
BEGIN:DAYLIGHT
TZOFFSETFROM:+0100
TZOFFSETTO:+0200
TZNAME:CEST
DTSTART:20220327T010000
END:DAYLIGHT
BEGIN:STANDARD
TZOFFSETFROM:+0200
TZOFFSETTO:+0100
TZNAME:CET
DTSTART:20221030T010000
END:STANDARD
BEGIN:DAYLIGHT
TZOFFSETFROM:+0100
TZOFFSETTO:+0200
TZNAME:CEST
DTSTART:20230326T010000
END:DAYLIGHT
BEGIN:STANDARD
TZOFFSETFROM:+0200
TZOFFSETTO:+0100
TZNAME:CET
DTSTART:20231029T010000
END:STANDARD
END:VTIMEZONE
BEGIN:VEVENT
DTSTART;TZID=America/New_York:20220921T183000
DTEND;TZID=America/New_York:20220921T200000
DTSTAMP:20260422T121854
CREATED:20220804T222824Z
LAST-MODIFIED:20220926T154904Z
UID:5080-1663785000-1663790400@bodysex.com
SUMMARY:Virtual Bodysex Workshop with Kristy
DESCRIPTION:Register here\n			\n				\n				\n				\n				\n				Virtual Bodysex® is a course modeled after Betty Dodson’s in-person Bodysex® Workshop. The course includes five weekly zoom sessions and two individual sessions. Group sessions provide instruction and the opportunity to connect\, share lived experiences and learn from others. Individual sessions are scheduled at your convenience and customized to meet your needs. Self-exploration and practice will be assigned between group sessions. \nWednesdays\, from September 21st until October 19th\, 20226:30 p.m. Eastern Standard Time (75-90 minutes) \nThe course meets weekly via Zoom for five sessions at 6:30 pm. EST. Each session lasts between 75-90 minutes. Your two individual sessions may be scheduled after the course begins. The course costs $597\, and a non-refundable deposit of $200 is required to secure your spot. \nReserve your spot today by visiting: https://pathwaystopleasure.com/reserve-my-spot-virtual-bodysex
URL:https://bodysex.com/event/virtual-bodysex-workshop-with-kristy/
LOCATION:Zoom
CATEGORIES:Bodysex Workshop - Virtual
ATTACH;FMTTYPE=image/png:https://bodysex.com/wp-content/uploads/2022/08/Kristy-Virtual-Bodysex.png
ORGANIZER;CN="Kristy Lowther":MAILTO:pathways2pleasure@gmail.com
END:VEVENT
BEGIN:VEVENT
DTSTART;TZID=America/New_York:20220624T140000
DTEND;TZID=America/New_York:20220624T160000
DTSTAMP:20260422T121854
CREATED:20220125T001927Z
LAST-MODIFIED:20250115T011504Z
UID:2894-1656079200-1656086400@bodysex.com
SUMMARY:Bodysex Documentary Screening
DESCRIPTION:Register Here\n			\n				\n				\n				\n				\n				March 8\, 2025\n11:00 am Eastern time\nCarlin Ross will join for discussion before and after the screening\nBetty Dodson’s Bodysex documentary filmed in 2011 gives a peek into a real workshop led by Betty with six other women. It includes group sharing of experiences plus rituals such as Genital Show and Tell and techniques such as Betty’s Rock and Roll Orgasm. Viewers of this documentary will gain an awareness of female sexuality from a feminist perspective\, an understanding of the vulva and pleasure anatomy\, and an appreciation for female masturbation and orgasm. \nThis free screening is for women/vulva-havers only to create a comfortable space.  If you are unable to attend\,  this documentary and other explicit Betty Dodson/Bodysex videos are available for streaming via a premium video subscription ($75 one-time payment for everything) https://www.dodsonandross.com/videos \nThis film is explicit and includes nudity\, real vulvas\, masturbation\, and authentic orgasms. It is designed to educate viewers about female sexuality with openness and honesty. \nThe film is about 1 hour and 40 minutes. Afterward there will be time for questions and discussion if you wish to stay. \n99 spots available\nRegister via Calendly through the link below\n			\n				Register Here
URL:https://bodysex.com/event/bodysex-documentary-screening/2022-06-24/
LOCATION:Zoom
CATEGORIES:Bodysex Workshop - Virtual,Video Watch Party
ATTACH;FMTTYPE=image/jpeg:https://bodysex.com/wp-content/uploads/2022/01/Bodysex-Documentary-Title.jpg
ORGANIZER;CN="Laura Bogush":MAILTO:Laura@BettyDodsonFoundation.com
END:VEVENT
BEGIN:VEVENT
DTSTART;TZID=Europe/Berlin:20220218T200000
DTEND;TZID=Europe/Berlin:20220218T210000
DTSTAMP:20260422T121854
CREATED:20220202T013024Z
LAST-MODIFIED:20220202T013032Z
UID:3274-1645214400-1645218000@bodysex.com
SUMMARY:Women's Circle w/ Celine and Beatrice
DESCRIPTION:Once a month we – Beatrice Bast and Céline Manon – take the time for you to sit in a virtual circle with other women\, spend valuable time together and deal with various topics related to femininity. \n\n\n\n\n\n\n\n\n\n\n\nWhat’s planned this time?\n\n\n\nWill be announced.Your whole ‘I’ is welcome.In the women’s circle we treat each other with respect\, we listen and give space. \nAre you in? \nPhoto Women’s Circle courtesy of Natasha Salaash https://natashasalaash.com/
URL:https://bodysex.com/event/womens-circle-w-celine-and-beatrice/
LOCATION:Zoom
CATEGORIES:Women's Circle Discussion
ATTACH;FMTTYPE=image/jpeg:https://bodysex.com/wp-content/uploads/2022/02/Frauenkreis-700x300-1.jpg
ORGANIZER;CN="Memamo Coaching":MAILTO:info@memamo-coaching.com
END:VEVENT
END:VCALENDAR